BEGIN:VCALENDAR
VERSION:2.0
PRODID:-//Chris Harris Photography - ECPv6.0.10//NONSGML v1.0//EN
CALSCALE:GREGORIAN
METHOD:PUBLISH
X-ORIGINAL-URL:https://www.chrisharris.com
X-WR-CALDESC:Events for Chris Harris Photography
REFRESH-INTERVAL;VALUE=DURATION:PT1H
X-Robots-Tag:noindex
X-PUBLISHED-TTL:PT1H
BEGIN:VTIMEZONE
TZID:America/Vancouver
BEGIN:DAYLIGHT
TZOFFSETFROM:-0800
TZOFFSETTO:-0700
TZNAME:PDT
DTSTART:20250309T100000
END:DAYLIGHT
BEGIN:STANDARD
TZOFFSETFROM:-0700
TZOFFSETTO:-0800
TZNAME:PST
DTSTART:20251102T090000
END:STANDARD
END:VTIMEZONE
BEGIN:VEVENT
DTSTART;TZID=America/Vancouver:20250302T140000
DTEND;TZID=America/Vancouver:20250302T153000
DTSTAMP:20260423T075316
CREATED:20250217T003745Z
LAST-MODIFIED:20250217T004409Z
UID:13045-1740924000-1740929400@www.chrisharris.com
SUMMARY:Art & Photography
DESCRIPTION:Invitation\nRita\, Teresa\, and I invite you to join us at the Chris Harris Gallery on March 2\, 2025\, at 2pm. Door opens at 1:30. \nApproaching Classic Art Movements Through Photography ~ Part II.\nAbstraction\n&\nMultiple Perspective Photography\nTeresa will speak about art historical concepts such as abstract painting in modern art\, cubism\, and types of perspective found in painting for a deeper understanding of Chris’s work. \nChris will illustrate his evolving creative process as he pushes the boundaries of photographic expression. This includes his innovative expression called ‘Multiple Perspective Photography’. \nThe presentation includes three slide shows with original musical settings by composer and renowned Canadian music producer\, Ken Marshall. \nJoin us for this special event\, where we will explore themes of experimentation and courage\, and the pursuit of enlivenment through art. \nThere are no tickets\, and all are welcome.\nHowever\, if you can let us know in advance that you are coming\, and would like us to hold a seat\, the best way is a phone call or text to Rita at; 250-706-5577.
URL:/event/13045/
LOCATION:Chris Harris Studio Gallery\, 5577 Back Valley Road\, 108 Mile Ranch\, British Columbia\, V0K 2Z0\, Canada
ORGANIZER;CN="Chris%20Harris%20Photography":MAILTO:photography@chrisharris.com
END:VEVENT
END:VCALENDAR